BEGIN:VCALENDAR
VERSION:2.0
PRODID:-//hcfirststeps.org//NONSGML kigkonsult.se iCalcreator 2.30.10//
CALSCALE:GREGORIAN
METHOD:PUBLISH
UID:bf420de6-9495-4901-b402-a0d9167bbbc9
X-WR-CALDESC:All Horry County Child Care Directors are welcome to join Ms. 
 Guanessa Smith for this engaging training session.  Be sure to reserve you
 r spot by registering at the link provided.
X-WR-RELCALID:8bd4e978b39663e61c265ebdd0cefa9d
X-WR-TIMEZONE:America/New_York
BEGIN:VTIMEZONE
TZID:America/New_York
BEGIN:STANDARD
TZNAME:EST
DTSTART:20221106T020000
TZOFFSETFROM:-0400
TZOFFSETTO:-0500
RDATE:20231105T020000
RDATE:20241103T020000
END:STANDARD
BEGIN:DAYLIGHT
TZNAME:EDT
DTSTART:20230312T020000
TZOFFSETFROM:-0500
TZOFFSETTO:-0400
RDATE:20240310T020000
END:DAYLIGHT
END:VTIMEZONE
BEGIN:VEVENT
UID:2de3eecf-aa14-427f-96f4-56cb3aef7593
DTSTAMP:20260419T124144Z
DESCRIPTION:All Horry County Child Care Directors are welcome to join Ms. G
 uanessa Smith for this engaging training session.  Be sure to reserve your
  spot by registering at the link provided.
DTSTART;TZID=America/New_York:20230830T120000
DTEND;TZID=America/New_York:20230830T133000
LOCATION:
SUMMARY:The Effective Director
END:VEVENT
END:VCALENDAR
